BEGIN:VCALENDAR
VERSION:2.0
PRODID:-//Reality Changers - ECPv6.15.20//NONSGML v1.0//EN
CALSCALE:GREGORIAN
METHOD:PUBLISH
X-WR-CALNAME:Reality Changers
X-ORIGINAL-URL:https://realitychangers.org
X-WR-CALDESC:Events for Reality Changers
REFRESH-INTERVAL;VALUE=DURATION:PT1H
X-Robots-Tag:noindex
X-PUBLISHED-TTL:PT1H
BEGIN:VTIMEZONE
TZID:America/Los_Angeles
BEGIN:DAYLIGHT
TZOFFSETFROM:-0800
TZOFFSETTO:-0700
TZNAME:PDT
DTSTART:20250309T100000
END:DAYLIGHT
BEGIN:STANDARD
TZOFFSETFROM:-0700
TZOFFSETTO:-0800
TZNAME:PST
DTSTART:20251102T090000
END:STANDARD
BEGIN:DAYLIGHT
TZOFFSETFROM:-0800
TZOFFSETTO:-0700
TZNAME:PDT
DTSTART:20260308T100000
END:DAYLIGHT
BEGIN:STANDARD
TZOFFSETFROM:-0700
TZOFFSETTO:-0800
TZNAME:PST
DTSTART:20261101T090000
END:STANDARD
BEGIN:DAYLIGHT
TZOFFSETFROM:-0800
TZOFFSETTO:-0700
TZNAME:PDT
DTSTART:20270314T100000
END:DAYLIGHT
BEGIN:STANDARD
TZOFFSETFROM:-0700
TZOFFSETTO:-0800
TZNAME:PST
DTSTART:20271107T090000
END:STANDARD
END:VTIMEZONE
BEGIN:VEVENT
DTSTART;TZID=America/Los_Angeles:20260209T183000
DTEND;TZID=America/Los_Angeles:20260209T200000
DTSTAMP:20260424T064811
CREATED:20260206T235005Z
LAST-MODIFIED:20260206T235322Z
UID:10001396-1770661800-1770667200@realitychangers.org
SUMMARY:Speech Night
DESCRIPTION:If your family needs to pick up a free meal kit this month\, please come by Reality Changers on Monday\, 11/17 between 6pm and 9pm. Each family will recieve 5lbs of dry goods and 16 lbs of produce. Please bring your own grocery bags or boxes. \nRSVP Reqiured.
URL:https://realitychangers.org/event/speech-night-020926/
LOCATION:Reality Changers Education Center\, 1400 Park Blvd\, San Diego\, CA\, 92101\, United States
CATEGORIES:Events
END:VEVENT
BEGIN:VEVENT
DTSTART;TZID=America/Los_Angeles:20260210T183000
DTEND;TZID=America/Los_Angeles:20260210T200000
DTSTAMP:20260424T064811
CREATED:20260206T235520Z
LAST-MODIFIED:20260207T000623Z
UID:10001397-1770748200-1770753600@realitychangers.org
SUMMARY:Speech Night
DESCRIPTION:If your family needs to pick up a free meal kit this month\, please come by Reality Changers on Monday\, 11/17 between 6pm and 9pm. Each family will recieve 5lbs of dry goods and 16 lbs of produce. Please bring your own grocery bags or boxes. \nRSVP Reqiured.
URL:https://realitychangers.org/event/speech-night-021026/
LOCATION:Reality Changers Education Center\, 1400 Park Blvd\, San Diego\, CA\, 92101\, United States
CATEGORIES:Events
END:VEVENT
BEGIN:VEVENT
DTSTART;TZID=America/Los_Angeles:20260211T183000
DTEND;TZID=America/Los_Angeles:20260211T200000
DTSTAMP:20260424T064811
CREATED:20260206T235806Z
LAST-MODIFIED:20260207T000037Z
UID:10001398-1770834600-1770840000@realitychangers.org
SUMMARY:Speech Night
DESCRIPTION:If your family needs to pick up a free meal kit this month\, please come by Reality Changers on Monday\, 11/17 between 6pm and 9pm. Each family will recieve 5lbs of dry goods and 16 lbs of produce. Please bring your own grocery bags or boxes. \nRSVP Reqiured.
URL:https://realitychangers.org/event/speech-night-021126/
LOCATION:Reality Changers Education Center\, 1400 Park Blvd\, San Diego\, CA\, 92101\, United States
CATEGORIES:Events
END:VEVENT
BEGIN:VEVENT
DTSTART;TZID=America/Los_Angeles:20260212T183000
DTEND;TZID=America/Los_Angeles:20260212T200000
DTSTAMP:20260424T064811
CREATED:20260207T000546Z
LAST-MODIFIED:20260207T000730Z
UID:10001399-1770921000-1770926400@realitychangers.org
SUMMARY:Speech Night
DESCRIPTION:If your family needs to pick up a free meal kit this month\, please come by Reality Changers on Monday\, 11/17 between 6pm and 9pm. Each family will recieve 5lbs of dry goods and 16 lbs of produce. Please bring your own grocery bags or boxes. \nRSVP Reqiured.
URL:https://realitychangers.org/event/speech-night-021226/
LOCATION:Reality Changers Education Center\, 1400 Park Blvd\, San Diego\, CA\, 92101\, United States
CATEGORIES:Events
END:VEVENT
END:VCALENDAR